BEGIN:VCALENDAR
BEGIN:VEVENT
CLASS:PUBLIC
CREATED:20260422T190920
DESCRIPTION:This is the latest version of the 2024-2025 Legal Update I TREC 4 Hour C.E. Class.

We will address the recent \"Buyer Representation Changes\" affecting everyone.

Instructor John Neely helps keep it relevant and easy to follow!

You are required to take it and Legal Update II prior to renewing your

Texas Real Estate License.  TREC C.E. Course #47603/TREC C.E. Provider #685.

*An enabled camera is required for Online Classes, if you are requesting CE credit.

This is to stay in compliance with attendance monitoring that TREC requires.

Please register by clicking on the Red Register button below.
DTEND:20240807T140000
DTSTAMP:20260422T190920
DTSTART:20240807T100000
LAST-MODIFIED:20091109T101015Z
LOCATION:Zoom Class Hosted by Mission Title, TREC C.E. Provider # 685, TREC C.E. Course # 47603, Instructor John Neely, Please have a working camera & sound
SUMMARY;LANGUAGE=en-us:Legal Update I C.E. Zoom Class
BEGIN:VALARM
TRIGGER:-PT1440M
ACTION:DISPLAY
DESCRIPTION:Reminder
END:VALARM
END:VEVENT
END:VCALENDAR
