BEGIN:VCALENDAR
BEGIN:VEVENT
CLASS:PUBLIC
CREATED:20260422T191234
DESCRIPTION:This 2 Hour TREC approved course will count toward the current

TREC mandate requiring all License holders to complete 3 Hours of

contracts-related coursework as part of the mandatory 18 C.E. Hours!

*Great Class for all Agents as we discuss Contract “negotiation strategies”.*

We will discuss the Buyer Representation “changes” that everyone is talking about.

 Instructor John Neely keeps the Class interesting and informative for everyone!

Please click below on the Red REGISTER button now.
DTEND:20240808T120000
DTSTAMP:20260422T191234
DTSTART:20240808T100000
LAST-MODIFIED:20091109T101015Z
LOCATION:Zoom Class Hosted by Mission Title, TREC C.E. Provider # 685, TREC CE Course # 46115, Instructor John Neely, Please have a working camera & sound.
SUMMARY;LANGUAGE=en-us:Completing the TREC 1-4 Family Residential Resale Contract
BEGIN:VALARM
TRIGGER:-PT1440M
ACTION:DISPLAY
DESCRIPTION:Reminder
END:VALARM
END:VEVENT
END:VCALENDAR
