BEGIN:VCALENDAR
BEGIN:VEVENT
CLASS:PUBLIC
CREATED:20260422T190657
DESCRIPTION:This is the latest version of the 2024-2025 Legal Update II TREC 4 Hour C.E. Class.

We will discuss the Buyer Representation “changes” that everyone is talking about.

Instructor John Neely helps keep it relevant and easy to follow!

You are required to take it and Legal Update I prior to renewing your

Texas Real Estate License!  Note you can take Legal I &amp; II in any order.

Call 210-865-1700 with questions.

Please register by clicking on the Red Register button below.
DTEND:20240814T140000
DTSTAMP:20260422T190657
DTSTART:20240814T100000
LAST-MODIFIED:20091109T101015Z
LOCATION:Zoom Class Hosted by Mission Title, TREC C.E. Provider # 685, TREC C.E. Course # 47604, Instructor John Neely, Please have a worrking camera & sound
SUMMARY;LANGUAGE=en-us:Legal Update II C.E. Zoom Class
BEGIN:VALARM
TRIGGER:-PT1440M
ACTION:DISPLAY
DESCRIPTION:Reminder
END:VALARM
END:VEVENT
END:VCALENDAR
