BEGIN:VCALENDAR
BEGIN:VEVENT
CLASS:PUBLIC
CREATED:20260422T190448
DESCRIPTION:An in-depth review of the key TREC Addendums

to help you understand and be competent.

We will discuss the Buyer Representation 

“changes” that everyone is talking about.

Instructor John Neely uses real world examples

of when to use them and offer negotiation tips.

Call 210-865-1700  with your questions.

*This course counts towards the required

“Contract CE Hours” needed for your TREC

License renewal.  Click the Red REGISTER Button now.
DTEND:20240813T110000
DTSTAMP:20260422T190448
DTSTART:20240813T100000
LAST-MODIFIED:20091109T101015Z
LOCATION:Zoom Class Hosted by Mission Title, TREC CE Course Provider # 685, TREC CE Course # 46167, Instructor John Neely, Please have a working camera & sound.
SUMMARY;LANGUAGE=en-us:Addendums to the TREC Contract: In Depth
BEGIN:VALARM
TRIGGER:-PT1440M
ACTION:DISPLAY
DESCRIPTION:Reminder
END:VALARM
END:VEVENT
END:VCALENDAR
