BEGIN:VCALENDAR
BEGIN:VEVENT
CLASS:PUBLIC
CREATED:20260422T190728
DESCRIPTION:REALTORS must comply with the NAR mandates as of August 17th.

Instructor John Neely will be IN-PERSON to help you understand

the changes and be ready to overcome objections. Listing agents

must practice using scripts when explaining to Sellers the importance

of paying commissions to Buyer brokers &amp; agents. If you are not ready

for the seismic changes to our real estate industry, you will be left behind.

In-Person training at Laredo Board of REALTORS.

Register by calling # 956-712-4400 the Laredo BOR to RSVP.

This is free-no C.E. but please register so we have a head count.

Call 210-865-1700  John Neely
DTEND:20240816T114500
DTSTAMP:20260422T190728
DTSTART:20240816T101500
LAST-MODIFIED:20091109T101015Z
LOCATION:Laredo Board of REALTORS, 107 C del Norte, Laredo, Tx, 78041
SUMMARY;LANGUAGE=en-us:Buyer Representation Changes IN-PERSON @ Laredo Board of REALTORS/ *CLASS is FULL!
BEGIN:VALARM
TRIGGER:-PT1440M
ACTION:DISPLAY
DESCRIPTION:Reminder
END:VALARM
END:VEVENT
END:VCALENDAR
