BEGIN:VCALENDAR
BEGIN:VEVENT
CLASS:PUBLIC
CREATED:20260422T190734
DESCRIPTION:An in-depth review of the key Addendums

to help you understand and be competent.

We will discuss the Buyer Representation “changes” that everyone is talking about.

Instructor John Neely uses real world examples

of when to use them and offer negotiation tips.

All Agents will benefit from this important C.E. class.

*This course counts towards the required

“Contract CE Hours” needed for your TREC

License renewal.  Click the REGISTER Button now.
DTEND:20240802T113000
DTSTAMP:20260422T190734
DTSTART:20240802T100000
LAST-MODIFIED:20091109T101015Z
LOCATION:Fiirst State Bank of Uvalde, 200 East Nopal Street, Uvalde, Tx, 78801
SUMMARY;LANGUAGE=en-us:Addendums to the TREC Contract: In Depth/ Class  is IN-PERSON-Uvalde, Tx.
BEGIN:VALARM
TRIGGER:-PT1440M
ACTION:DISPLAY
DESCRIPTION:Reminder
END:VALARM
END:VEVENT
END:VCALENDAR
