BEGIN:VCALENDAR
BEGIN:VEVENT
CLASS:PUBLIC
CREATED:20260422T191035
DESCRIPTION:This is the most recent revision of the 2023-2024 version required by TREC

for any Broker who sponsors Agents. TREC now requires Team Leaders

to also take this course if they supervise Agents for three or more months.

Instructor John Neely will help keep it interesting and meaningful.

This course will count as 6 Hours of CE toward your required 18 Hours

for renewal of your Broker or Salesman license. *Any license holder may

take this course!*         Click the Red REGISTER Button now.

We will discuss the Buyer Representation “changes” that

everyone is talking about. Questions-call 210-865-1700
DTEND:20240925T150000
DTSTAMP:20260422T191035
DTSTART:20240925T090000
LAST-MODIFIED:20091109T101015Z
LOCATION:Zoom Class Hosted by Mission Title, TREC C.E. Provider # 685, TREC C.E. Course # 44547, Instructor John Neely, Please have a working camera & sound
SUMMARY;LANGUAGE=en-us:Broker Responsibility Course
BEGIN:VALARM
TRIGGER:-PT1440M
ACTION:DISPLAY
DESCRIPTION:Reminder
END:VALARM
END:VEVENT
END:VCALENDAR
