BEGIN:VCALENDAR
BEGIN:VEVENT
CLASS:PUBLIC
CREATED:20260422T190611
DESCRIPTION:This class will help Agents secure their Compensation (Commission) in

writing using the required updated Tx. REALTOR forms. *We will clear

up confusion on what the loan underwriters will approve and how to

include this on the correct addendums. Building rapport w/all parties will be

critical to your success going forward!     *Class is IN-PERSON*

Jose Martinez of Prime Lending &amp; John Neely together will help you understand

some of the misinformation you are hearing in the marketplace.

C.E. credit is available @ $10. or attend for free.

TREC CE Provider #685

TREC CE Course # 46167

Please register to RSVP for this important training.
DTEND:20240917T113000
DTSTAMP:20260422T190611
DTSTART:20240917T100000
LAST-MODIFIED:20091109T101015Z
LOCATION:Prime Lending Office, 270 N.Loop 1604 E., San Antonio, Tx., 78232
SUMMARY;LANGUAGE=en-us:Addendums-Buyer Representation & Compensation Changes /  *IN-PERSON* 
BEGIN:VALARM
TRIGGER:-PT1440M
ACTION:DISPLAY
DESCRIPTION:Reminder
END:VALARM
END:VEVENT
END:VCALENDAR
