BEGIN:VCALENDAR
BEGIN:VEVENT
CLASS:PUBLIC
CREATED:20260422T190903
DESCRIPTION:This Course over ZOOM covers the most recent TREC Contract and Form changes.

We will discuss the Buyer Representation “changes” that everyone is talking about.

Be sure to open Zip Forms and start reviewing the various changes to the Texas REALTORS forms.

They became available on June 24th. (specifically TXR-1501 and TXR-1101).

Instructor John Neely welcomes your questions and offers negotiation strategies.

If you have any questions-call or text John Neely @ 210-865-1700

Click on the red Register button now.
DTEND:20240910T110000
DTSTAMP:20260422T190903
DTSTART:20240910T100000
LAST-MODIFIED:20091109T101015Z
LOCATION:Zoom Class Hosted by Mission Title, TREC C.E. Provider #685, TREC C.E. Course #48479, Instructor  John Neely, Please have a working camera
SUMMARY;LANGUAGE=en-us:New & Notable TREC Form Changes
BEGIN:VALARM
TRIGGER:-PT1440M
ACTION:DISPLAY
DESCRIPTION:Reminder
END:VALARM
END:VEVENT
END:VCALENDAR
