BEGIN:VCALENDAR
BEGIN:VEVENT
CLASS:PUBLIC
CREATED:20260422T173512
DESCRIPTION:This class will help Agents secure their Compensation (Commission) in

writing using the required updated Tx. REALTOR forms. *We will clear

up confusion on what the loan underwriters will approve and how to

include this on the correct addendums. Building rapport w/all parties will be

critical to your success going forward!     *Class is IN-PERSON*

**Lunch provided.

John Hudson of H&amp;M Mortgage &amp; John Neely together will help you understand

some of the misinformation you are hearing in the marketplace.

C.E. credit is available @ $10. OR attend for free.

TREC CE Provider #685  TREC CE Course # 46167

RSVP-ariel.kapp@hmmtg.com OR John Neely #210-865-1700
DTEND:20241001T123000
DTSTAMP:20260422T173512
DTSTART:20241001T110000
LAST-MODIFIED:20091109T101015Z
LOCATION:Design Home Staging, 8218 Fredericksburg Road, San Antonio, Tx, 78229
SUMMARY;LANGUAGE=en-us:Addendums-Buyer Representation & Compensation Changes / *IN-PERSON*
BEGIN:VALARM
TRIGGER:-PT1440M
ACTION:DISPLAY
DESCRIPTION:Reminder
END:VALARM
END:VEVENT
END:VCALENDAR
