BEGIN:VCALENDAR
BEGIN:VEVENT
CLASS:PUBLIC
CREATED:20260422T174114
DESCRIPTION:This 2-hour course will focus on the completion of the TREC
Farm and Ranch Contract by discussing the nature of farm
and ranch properties, survey issues, easements and access
issues, taxes, minerals-Oil &amp; Gas, title insurance coverages and so
much more!
*This course counts towards the required contract CE hours needed for
license renewal.
DTEND:20241022T120000
DTSTAMP:20260422T174114
DTSTART:20241022T100000
LAST-MODIFIED:20091109T101015Z
LOCATION:Zoom Class Hosted by Mission Title & Title Resources, TREC C.E. Provider #245, TREC C.E. Course #44523,  Instructors John Neely & Attorney Britt Larison, Please have a working camera and sound
SUMMARY;LANGUAGE=en-us:Completing the TREC Farm & Ranch Contract - Zoom
BEGIN:VALARM
TRIGGER:-PT1440M
ACTION:DISPLAY
DESCRIPTION:Reminder
END:VALARM
END:VEVENT
END:VCALENDAR
