BEGIN:VCALENDAR
BEGIN:VEVENT
CLASS:PUBLIC
CREATED:20260422T174608
DESCRIPTION:This class will help Agents secure their Compensation (Commission) in

writing using the required updated Tx. REALTOR forms. *We will clear

up confusion on what the loan underwriters will approve and how to

include this on the correct addendums. Building rapport w/all parties will be

critical to your success going forward!     *Class is IN-PERSON*

C.E. credit is available @ $10. OR attend for free

TREC CE Provider #685  TREC CE Course # 46167

RSVP- Annette Slater OR John Neely #210-865-1700
DTEND:20241028T190000
DTSTAMP:20260422T174608
DTSTART:20241028T163000
LAST-MODIFIED:20091109T101015Z
LOCATION:Annette Slater home, 3015 Ivory Creek, San Antonio, TX, 78258
SUMMARY;LANGUAGE=en-us:Addendums-Buyer Representation & Compensation Changes / *IN-PERSON PRIVATE CLASS*
BEGIN:VALARM
TRIGGER:-PT1440M
ACTION:DISPLAY
DESCRIPTION:Reminder
END:VALARM
END:VEVENT
END:VCALENDAR
