BEGIN:VCALENDAR
BEGIN:VEVENT
CLASS:PUBLIC
CREATED:20260422T173321
DESCRIPTION:This Course over ZOOM covers the the \"just approved\" TREC Contract and Form changes that 

are \"Mandatory\" for you to began using by January 3, 2025!

We will discuss the Buyer Representation “changes” that everyone is talking about.

Be sure to open Zip Forms and start reviewing the various changes to the Texas REALTORS forms.

Instructor John Neely welcomes your questions and offers negotiation strategies.

If you have any questions-call or text John Neely @ 210-865-1700

Click on the red Register button now. 

Be sure to start your TREC License # with a ZERO.
DTEND:20241126T110000
DTSTAMP:20260422T173321
DTSTART:20241126T100000
LAST-MODIFIED:20091109T101015Z
LOCATION:Zoom Class Hosted by Mission Title, TREC C.E. Provider #685, TREC C.E. Course #48479, Instructor John Neely, Please have a working camera
SUMMARY;LANGUAGE=en-us:New & Notable TREC Form Changes
BEGIN:VALARM
TRIGGER:-PT1440M
ACTION:DISPLAY
DESCRIPTION:Reminder
END:VALARM
END:VEVENT
END:VCALENDAR
