BEGIN:VCALENDAR
BEGIN:VEVENT
CLASS:PUBLIC
CREATED:20260422T160247
DESCRIPTION:AI has the potential to revolutionize the real estate industry by improving efficiency, accuracy, and customer satisfaction. In this class,

Realtors will learn how Chatbots &amp; AI Assistants are being implemented to automate tasks and responses, as well as an overview of the

different types of AI applications and how these are being used today.

This is a two hour C.E. class that includes Lunch!

Every real estate agent will benefit by embracing technology.

Please RSVP to John Neely  jneely@missiontitle.com or Mission Title in Uvalde 830-278-2460

Register now by clicking on the red REGISTER button below.

 
DTEND:20241203T123000
DTSTAMP:20260422T160247
DTSTART:20241203T100000
LAST-MODIFIED:20091109T101015Z
LOCATION:First State Bank of Uvalde, 200 East Nopal Street, Uvalde, Tx., 78801
SUMMARY;LANGUAGE=en-us:AI IN ACTION: TRANSFORMING REAL ESTATE    IN-PERSON in Uvalde, Tx.
BEGIN:VALARM
TRIGGER:-PT1440M
ACTION:DISPLAY
DESCRIPTION:Reminder
END:VALARM
END:VEVENT
END:VCALENDAR
