BEGIN:VCALENDAR
BEGIN:VEVENT
CLASS:PUBLIC
CREATED:20260422T144715
DESCRIPTION:IN-PERSON class in San Antonio @ Mission Title.

1031 Tax Exchange attorney Greg Lehrmann helps explain the

different types of Exchanges &amp; the Rules of the Exchange.

Setting your Client’s expectations, understanding the process

and guiding your Client to the right professionals is your Role.

In addition to the Client’s Tax Deferral benefits, there is the

bonus to Agents &amp; Brokers of more business and referrals.

TREC C.E. Provider#10877

TREC C.E. Course #49340

Please RSVP to John Neely Call or Text #210-865-1700.

(Take class for C.E. @ $10 OR free without C.E.)

Lunch provided!
DTEND:20250304T130000
DTSTAMP:20260422T144715
DTSTART:20250304T113000
LAST-MODIFIED:20091109T101015Z
LOCATION:Mission Title Training Room - IN PERSON, 114 W. Glenview Drive, San Antonio, TX, 78228
SUMMARY;LANGUAGE=en-us:Strategic 1031 Exchanges: A Guide to more Transactions
BEGIN:VALARM
TRIGGER:-PT1440M
ACTION:DISPLAY
DESCRIPTION:Reminder
END:VALARM
END:VEVENT
END:VCALENDAR
