BEGIN:VCALENDAR
BEGIN:VEVENT
CLASS:PUBLIC
CREATED:20260422T144848
DESCRIPTION: *Class is IN-PERSON* for Annette Slater agents &amp; guests.

This 2 Hour TREC approved course will count toward the current

TREC mandate requiring all License holders to complete 3 Hours of

contracts-related coursework as part of the mandatory 18 C.E. Hours!

*Great Class for all Agents as we discuss Contract “negotiation strategies”.*

We will discuss the mandatory TREC contract changes you started

using on January 3, 2025!

Instructor John Neely keeps the Class interesting and informative for everyone!

Please click below on the Red REGISTER button now. 

*Note-when adding your TREC License #, please start with a zero.

C.E. credit is available @ $20. OR attend for free

TREC CE Provider #685  TREC CE Course #46115

RSVP– Annette Slater #210-710-4001 OR John Neely #210-865-1700
DTEND:20250203T190000
DTSTAMP:20260422T144848
DTSTART:20250203T163000
LAST-MODIFIED:20091109T101015Z
LOCATION:Annette Slater's home, 3015 Ivory Creek, San Antonio, Texas, 78258
SUMMARY;LANGUAGE=en-us:*IN-PERSON PRIVATE CLASS* for Annette Slater Brokerage
BEGIN:VALARM
TRIGGER:-PT1440M
ACTION:DISPLAY
DESCRIPTION:Reminder
END:VALARM
END:VEVENT
END:VCALENDAR
