BEGIN:VCALENDAR
BEGIN:VEVENT
CLASS:PUBLIC
CREATED:20260422T144712
DESCRIPTION:Coming up with the down payment is often the most difficult aspect for first time homebuyers,

but there are programs out there to help! Join us IN-PERSON and master how to guide your

Clients towards overcoming this hurdle. In this info packed hour, you will learn about:

Down Payment &amp; Closing Cost assistance grants up to 5% of Loan Amount.

Buyer’s ability to save up to $2,000. annually in Federal Tax liability.

TSAHC’s affordable loans w/ competitive rates for first-time &amp; repeat homebuyers.

*Instructor is highly regarded mortgage expert John Hudson of Cachet Mortgage.*

TREC CE Provider #0001 is TSAHC, a State of Texas non-profit, who issues C.E. credit.

TREC C.E. Course #46079

Class is FREE and counts a one C.E. hour! Lunch afterward.
DTEND:20250219T114500
DTSTAMP:20260422T144712
DTSTART:20250219T100000
LAST-MODIFIED:20091109T101015Z
LOCATION:By Design Home Staging Company Showroom, 8218 Fredericksburg Road, San Antonio, TX, 78229
SUMMARY;LANGUAGE=en-us:Homes for Texas Heroes Program/ Overcoming the Down Payment hurdle- *IN-PERSON*
BEGIN:VALARM
TRIGGER:-PT1440M
ACTION:DISPLAY
DESCRIPTION:Reminder
END:VALARM
END:VEVENT
END:VCALENDAR
