BEGIN:VCALENDAR
BEGIN:VEVENT
CLASS:PUBLIC
CREATED:20260422T131454
DESCRIPTION:This 2-hour course focuses on the completion of the TREC Farm and Ranch Contract and discusses the nature of farm and ranch properties, survey issues, easements and access issues, taxes, minerals-Oil &amp; Gas, title insurance coverages, as well as \"your specific questions\". Recent changes are addressed.

*This course counts towards the required contract CE hours needed for your TREC license renewal. 

Submit specific questions to jneely@missiontitle.com  Thank you!

 
DTEND:20250528T120000
DTSTAMP:20260422T131454
DTSTART:20250528T100000
LAST-MODIFIED:20091109T101015Z
LOCATION:Zoom Class Hosted by Mission Title, TREC CE Provider #245, TREC CE Course #50256, Instructor-Attorney Britt Larison & John Neely , Please have a working camera and sound
SUMMARY;LANGUAGE=en-us:COMPLETING THE TREC FARM AND RANCH CONTRACT
BEGIN:VALARM
TRIGGER:-PT1440M
ACTION:DISPLAY
DESCRIPTION:Reminder
END:VALARM
END:VEVENT
END:VCALENDAR
