BEGIN:VCALENDAR
BEGIN:VEVENT
CLASS:PUBLIC
CREATED:20260422T114042
DESCRIPTION:AI will revolutionize the real estate industry by improving efficiency, accuracy, and customer satisfaction. In this class, Realtors will learn how Chatbots &amp; AI Assistants are being implemented to automate tasks and responses, as well as an overview of the different types of AI application and how these are being used today.  Realtors will gain a clear understanding of Chat GPT, its versions, and its practical uses in real estate. Lastly, we will end with some tips and tricks along with a live demonstration comparing different GPT’s and prompts.

Earn 2 Hours of C.E. Credit.
DTEND:20250617T120000
DTSTAMP:20260422T114042
DTSTART:20250617T100000
LAST-MODIFIED:20091109T101015Z
LOCATION:Prime Lending Office Training Room Third Floor, 270 N.Loop 1604 E., San Antonio, Texas, 78232
SUMMARY;LANGUAGE=en-us:AI in Action: Transforming Real Estate - In Person Class- 2 Hours of C.E.
BEGIN:VALARM
TRIGGER:-PT1440M
ACTION:DISPLAY
DESCRIPTION:Reminder
END:VALARM
END:VEVENT
END:VCALENDAR
