BEGIN:VCALENDAR
BEGIN:VEVENT
CLASS:PUBLIC
CREATED:20260422T114203
DESCRIPTION:This 2 Hour TREC approved course will count toward the current

TREC mandate requiring all License holders to complete 3 Hours of

contracts-related coursework as part of the mandatory 18 C.E. Hours!

*Great Class for all Agents as we discuss Contract “negotiation strategies”.*

We will discuss recent mandatory TREC contract changes and 

changes to your \"previously expected\" Commission/Compensation.

Instructor John Neely keeps the Class interesting and informative for everyone!

Please click below on the Red REGISTER button now. 

*Note-when adding your TREC License #, please start with a zero.
DTEND:20250604T120000
DTSTAMP:20260422T114203
DTSTART:20250604T100000
LAST-MODIFIED:20091109T101015Z
LOCATION:Zoom Class Hosted by Mission Title, TREC C.E. Provider #685, TREC C.E. Course #46115, Instructor John Neely, Please have a working camera and sound
SUMMARY;LANGUAGE=en-us:Completing the TREC 1-4 Family Residential Resale Contract
BEGIN:VALARM
TRIGGER:-PT1440M
ACTION:DISPLAY
DESCRIPTION:Reminder
END:VALARM
END:VEVENT
END:VCALENDAR
