BEGIN:VCALENDAR
BEGIN:VEVENT
CLASS:PUBLIC
CREATED:20260422T101418
DESCRIPTION:An in-depth review of the key Addendums to help you understand to be competent.

This Course over ZOOM covers the the “just approved” TREC Contract and Form changes that

are “Mandatory” for you to began using by January 3, 2025!

Buyer Representation“changes” will be discussed.

Instructor John Neely uses current examples of when to use them and offer negotiation tips.

Call John @ 210-865-1700  with any questions.

*This course counts towards the required “Contract CE Hours” needed for your 

TREC License renewal.   *Click the Red REGISTER Button now.
DTEND:20250814T110000
DTSTAMP:20260422T101418
DTSTART:20250814T100000
LAST-MODIFIED:20091109T101015Z
LOCATION:Zoom Class Hosted by Mission Title, TREC C.E. Provider #685, TREC C.E. Course #51805, Instructor John Neely, Please have a working camera and sound
SUMMARY;LANGUAGE=en-us:Addendums to the TREC Contract: In Depth over Zoom
BEGIN:VALARM
TRIGGER:-PT1440M
ACTION:DISPLAY
DESCRIPTION:Reminder
END:VALARM
END:VEVENT
END:VCALENDAR
