BEGIN:VCALENDAR
BEGIN:VEVENT
CLASS:PUBLIC
CREATED:20260422T090740
DESCRIPTION:AI has the potential to revolutionize the real estate industry by improving efficiency, accuracy, and customer satisfaction. In this class,

Realtors will learn how Chatbots &amp; AI Assistants are being implemented to automate tasks and responses, as well as an overview of the

different types of AI applications and how these are being used today.

This is a two hour C.E. class that includes Lunch!

Every real estate agent will benefit by embracing technology.

Please RSVP to John Neely  jneely@missiontitle.com or 210-865-1700

Register now by clicking on the red REGISTER button below.
DTEND:20251001T123000
DTSTAMP:20260422T090740
DTSTART:20251001T100000
LAST-MODIFIED:20091109T101015Z
LOCATION:Mission Title Training Room - IN PERSON, 114 W. Glenview Drive, San Antonio, TX, 78228
SUMMARY;LANGUAGE=en-us:AI IN ACTION: TRANSFORMING REAL ESTATE
BEGIN:VALARM
TRIGGER:-PT1440M
ACTION:DISPLAY
DESCRIPTION:Reminder
END:VALARM
END:VEVENT
END:VCALENDAR
