BEGIN:VCALENDAR
BEGIN:VEVENT
CLASS:PUBLIC
CREATED:20260422T070000
DESCRIPTION:This is the most recent revision of the 2025-2026 version required by TREC

for any Broker who sponsors Agents. TREC now requires Team Leaders

to also take this course if they supervise Agents for three or more months.

Instructor John Neely will help keep it interesting and meaningful.

This course will count as 6 Hours of CE toward your required 18 Hours

for renewal of your Broker or Salesman license. *Any license holder may

take this course!*         Click the Red REGISTER Button now.

 Questions-call John Neely @ 210-865-1700
DTEND:20251217T150000
DTSTAMP:20260422T070000
DTSTART:20251217T090000
LAST-MODIFIED:20091109T101015Z
LOCATION:Zoom Class Hosted by Mission Title, TREC C.E. Provider #685, TREC C.E. Course # 50498, Instructor John Neely, Please have a working camera and sound
SUMMARY;LANGUAGE=en-us:Broker Responsibility Course
BEGIN:VALARM
TRIGGER:-PT1440M
ACTION:DISPLAY
DESCRIPTION:Reminder
END:VALARM
END:VEVENT
END:VCALENDAR
