BEGIN:VCALENDAR
BEGIN:VEVENT
CLASS:PUBLIC
CREATED:20260422T065835
DESCRIPTION:Many of the “issues” REALTORS encounter after the Contract goes to the Title Company are avoidable.

Remember the mandatory TREC form changes YOU must start using on January 3, 2025.

We will analyze the common contract problems that can arise when using TREC Contract forms.

Our purpose is to help Agents be better informed of the effects of “situations” in our TREC

and TAR forms and assist them in avoiding similar problems on future transactions.

All Agents will benefit from this Class!

*This One Hour C.E. course counts toward the TREC “Contracts requirement”.

Click on the red REGISTER button below now.

Remember to start your TREC License # with a ZERO.
DTEND:20251211T110000
DTSTAMP:20260422T065835
DTSTART:20251211T100000
LAST-MODIFIED:20091109T101015Z
LOCATION:Zoom Class Hosted by Mission Title, TREC C.E. Provider #685, TREC C.E. Course #51521, Instructor John Neely, Please have a working camera and sound
SUMMARY;LANGUAGE=en-us:A Dozen Common TREC Contract Problems
BEGIN:VALARM
TRIGGER:-PT1440M
ACTION:DISPLAY
DESCRIPTION:Reminder
END:VALARM
END:VEVENT
END:VCALENDAR
