BEGIN:VCALENDAR
BEGIN:VEVENT
CLASS:PUBLIC
CREATED:20260422T065858
DESCRIPTION:AI has the potential to revolutionize the real estate industry by improving efficiency, accuracy, and customer satisfaction. In this class,

Realtors will learn how Chatbots &amp; AI Assistants are being implemented to automate tasks and responses, as well as an overview of the

different types of AI applications and how these are being used today.

Every real estate agent will benefit by embracing technology.

Please RSVP to John Neely  jneely@missiontitle.com or 210-865-1700

Register now by clicking on the red REGISTER button below.
DTEND:20260106T191500
DTSTAMP:20260422T065858
DTSTART:20260106T170000
LAST-MODIFIED:20091109T101015Z
LOCATION:Annette Slater's home, 3015 Ivory Creek, San Antonio, Tx, 78258
SUMMARY;LANGUAGE=en-us:AI in Action: Transforming Real Estate - In Person 
BEGIN:VALARM
TRIGGER:-PT1440M
ACTION:DISPLAY
DESCRIPTION:Reminder
END:VALARM
END:VEVENT
END:VCALENDAR
