BEGIN:VCALENDAR
BEGIN:VEVENT
CLASS:PUBLIC
CREATED:20260422T065842
DESCRIPTION:This is a one hour CE class that counts toward contract CE.

WE cover the most *recent TREC Contract and Form changes* that are now

Mandatory for your use.

(We will also discuss the Buyer Representation “changes” from Texas REALTORS.)

Be sure to open Zip Forms and start reviewing the various changes to the Texas REALTORS forms.

Instructor John Neely welcomes your questions and offers negotiation strategies.

If you have any questions-call or text John Neely @ 210-865-1700

Click on the red Register button now. 

Be sure to start your TREC License # with a ZERO.
DTEND:20260108T110000
DTSTAMP:20260422T065842
DTSTART:20260108T100000
LAST-MODIFIED:20091109T101015Z
LOCATION:Zoom Class Hosted by Mission Title, TREC C.E. Provider #685, TREC C.E. Course #22755 RECE, Instructor John Neely, Please have a working camera and sound
SUMMARY;LANGUAGE=en-us:“New” & Notable TREC Changes
BEGIN:VALARM
TRIGGER:-PT1440M
ACTION:DISPLAY
DESCRIPTION:Reminder
END:VALARM
END:VEVENT
END:VCALENDAR
