BEGIN:VCALENDAR
BEGIN:VEVENT
CLASS:PUBLIC
CREATED:20260422T053257
DESCRIPTION:**IMPORTANT Note-when registering, do NOT add your TREC License #.

This is the latest version of the 2026-2027 Legal Update I TREC 4 Hour C.E. Class.

Instructor John Neely helps keep it relevant and easy to follow!

You are required to take it and Legal Update II prior to renewing your

Texas Real Estate License.  TREC C.E. Course #/TREC C.E. Provider #685.

*An enabled camera is required for Online Classes, if you are requesting CE credit.

This is to stay in compliance with attendance monitoring that TREC requires.

Please register by clicking on the Red Register button below.
DTEND:20260211T140000
DTSTAMP:20260422T053257
DTSTART:20260211T100000
LAST-MODIFIED:20091109T101015Z
LOCATION:Zoom Class Hosted by Mission Title, TREC C.E. Provider #685, TREC C.E. Course #,  Instructor John Neely, Please have a working camera and sound
SUMMARY;LANGUAGE=en-us:Legal Update I C.E. Zoom Class
BEGIN:VALARM
TRIGGER:-PT1440M
ACTION:DISPLAY
DESCRIPTION:Reminder
END:VALARM
END:VEVENT
END:VCALENDAR
