BEGIN:VCALENDAR
BEGIN:VEVENT
CLASS:PUBLIC
CREATED:20260422T065836
DESCRIPTION:**IMPORTANT Note-when registering, do NOT add your TREC License #.

This is the most recent revision of the 2025-2026 BRC course required

by TREC and it counts as 6 hours of CE.

As of January 1, 2026, TREC now requires “all” Brokers to complete

this course regardless if you sponsor agents!

Designated Team Leaders, Supervisors and Managers must also

take this course before your TREC License renewal.

Instructor John Neely will help keep it interesting and meaningful.

This course will count as 6 Hours of CE toward your required 18 Hours

for renewal of your Broker or Salesman license.

Click the Red REGISTER Button now. Questions-call John Neely @ 210-865-1700
DTEND:20260224T150000
DTSTAMP:20260422T065836
DTSTART:20260224T090000
LAST-MODIFIED:20091109T101015Z
LOCATION:Zoom Class Hosted by Mission Title, TREC C.E. Provider #685, TREC C.E. Course #50498,  Instructor John Neely, Please have a working camera and sound
SUMMARY;LANGUAGE=en-us:Broker Responsibility Course
BEGIN:VALARM
TRIGGER:-PT1440M
ACTION:DISPLAY
DESCRIPTION:Reminder
END:VALARM
END:VEVENT
END:VCALENDAR
