BEGIN:VCALENDAR
BEGIN:VEVENT
CLASS:PUBLIC
CREATED:20260422T065955
DESCRIPTION:This is a one hour CE class offered thru TSAHC and there is NO charge to take it.

Coming up with the down payment is often the most difficult aspect for first time homebuyers,

but there are programs out there to help! Join us IN-PERSON and master how to guide your

Clients towards overcoming this hurdle. In this info packed hour, you will learn about:

Down Payment &amp; Closing Cost assistance grants up to 5% of Loan Amount.

Buyer’s ability to save up to $2,000. annually in Federal Tax liability.

TSAHC’s affordable loans w/ competitive rates for first-time &amp; repeat homebuyers.

*Instructor is highly regarded mortgage expert John Hudson of H &amp; M Mortgage.*

TREC CE Provider #0001 is TSAHC, a State of Texas non-profit, who issues C.E. credit.

Class is FREE and counts a one C.E. hour!   \"Lunch is included.\"
DTEND:20260128T130000
DTSTAMP:20260422T065955
DTSTART:20260128T114500
LAST-MODIFIED:20091109T101015Z
LOCATION:Mission Title of Uvalde , 202 Hornby Place, Uvalde, Tx., 78801
SUMMARY;LANGUAGE=en-us:Overcoming the Down Payment hurdle to attract Buyers!
BEGIN:VALARM
TRIGGER:-PT1440M
ACTION:DISPLAY
DESCRIPTION:Reminder
END:VALARM
END:VEVENT
END:VCALENDAR
