BEGIN:VCALENDAR
BEGIN:VEVENT
CLASS:PUBLIC
CREATED:20260422T145029
DESCRIPTION:NOTE-this is a private in-person class. Call John  Neely for details!

This is a one hour CE class that counts toward TREC contract CE.

WE cover the most *recent TREC Contract and Form changes* that are now

Mandatory for your use as of January 1, 2026.

(We will also discuss the Buyer Representation “changes” from Texas REALTORS.)

Instructor John Neely welcomes your questions and offers negotiation strategies.

If you have any questions-call or text John Neely @ 210-865-1700

Click on the red Register button now. 
DTEND:20260219T190000
DTSTAMP:20260422T145029
DTSTART:20260219T161500
LAST-MODIFIED:20091109T101015Z
LOCATION:Annette Slater's home office, 3015 Ivory Creek, San Antonio, TX, 78258
SUMMARY;LANGUAGE=en-us:“New” & Notable TREC Changes **Private Class**
BEGIN:VALARM
TRIGGER:-PT1440M
ACTION:DISPLAY
DESCRIPTION:Reminder
END:VALARM
END:VEVENT
END:VCALENDAR
