BEGIN:VCALENDAR
BEGIN:VEVENT
CLASS:PUBLIC
CREATED:20260419T115543
DESCRIPTION:**IMPORTANT Note-when registering, do NOT add your TREC License #.

As of January 1, 2026, TREC now requires “all” Brokers to complete

this course regardless if you sponsor agents!

Designated Team Leaders, Supervisors and Managers must also

take this course before your TREC License renewal.

This course will count as 6 Hours of CE toward your required 18 Hours

for renewal of your Broker or Salesman license. *Any license holder may

take this course!*         Click the Red REGISTER Button now.

 Questions-call John Neely @ 210-865-1700
DTEND:20260623T150000
DTSTAMP:20260419T115543
DTSTART:20260623T090000
LAST-MODIFIED:20091109T101015Z
LOCATION:Zoom Class Hosted by Mission Title, TREC C.E. Provider #685, TREC C.E. Course #07152 RENE, Instructor John Neely, Please have a working camera and sound
SUMMARY;LANGUAGE=en-us:Broker Responsibility Course
BEGIN:VALARM
TRIGGER:-PT1440M
ACTION:DISPLAY
DESCRIPTION:Reminder
END:VALARM
END:VEVENT
END:VCALENDAR
